BEGIN:VCALENDAR
VERSION:2.0
PRODID:-//Historic Stonington - ECPv6.11.2.1//NONSGML v1.0//EN
CALSCALE:GREGORIAN
METHOD:PUBLISH
X-ORIGINAL-URL:https://www.historicstonington.org
X-WR-CALDESC:Events for Historic Stonington
REFRESH-INTERVAL;VALUE=DURATION:PT1H
X-Robots-Tag:noindex
X-PUBLISHED-TTL:PT1H
BEGIN:VTIMEZONE
TZID:America/New_York
BEGIN:DAYLIGHT
TZOFFSETFROM:-0500
TZOFFSETTO:-0400
TZNAME:EDT
DTSTART:20210314T070000
END:DAYLIGHT
BEGIN:STANDARD
TZOFFSETFROM:-0400
TZOFFSETTO:-0500
TZNAME:EST
DTSTART:20211107T060000
END:STANDARD
END:VTIMEZONE
BEGIN:VEVENT
DTSTART;TZID=America/New_York:20211110T183000
DTEND;TZID=America/New_York:20211110T200000
DTSTAMP:20260420T143307
CREATED:20211101T172313Z
LAST-MODIFIED:20211109T172009Z
UID:16422-1636569000-1636574400@www.historicstonington.org
SUMMARY:As American as Pumpkin Pie
DESCRIPTION:Join The Food Historian\, Sarah Wassberg Johnson\, on November 10th to learn more about PUMPKINS! How did a humble gourd\, native to the Americas\, come to dominate our holiday food scene? Learn more about the history of the pumpkin\, their role in early colonial America\, and how to make a 19th-century pumpkin pie from scratch in this online event! Event is free and welcome to all. Please pre-register at the link below! \nhttps://us02web.zoom.us/meeting/register/tZAkce2uqzwjE916SFDV6SA0MxC4BfSrBIzy
URL:https://www.historicstonington.org/event/as-american-as-pumpkin-pie/
LOCATION:Online
CATEGORIES:Programs & Events
ATTACH;FMTTYPE=image/png:https://www.historicstonington.org/wp-content/uploads/1-2.png
END:VEVENT
END:VCALENDAR