BEGIN:VCALENDAR
VERSION:2.0
PRODID:-//Historic Stonington - ECPv6.11.2.1//NONSGML v1.0//EN
CALSCALE:GREGORIAN
METHOD:PUBLISH
X-WR-CALNAME:Historic Stonington
X-ORIGINAL-URL:https://www.historicstonington.org
X-WR-CALDESC:Events for Historic Stonington
REFRESH-INTERVAL;VALUE=DURATION:PT1H
X-Robots-Tag:noindex
X-PUBLISHED-TTL:PT1H
BEGIN:VTIMEZONE
TZID:America/New_York
BEGIN:DAYLIGHT
TZOFFSETFROM:-0500
TZOFFSETTO:-0400
TZNAME:EDT
DTSTART:20220313T070000
END:DAYLIGHT
BEGIN:STANDARD
TZOFFSETFROM:-0400
TZOFFSETTO:-0500
TZNAME:EST
DTSTART:20221106T060000
END:STANDARD
END:VTIMEZONE
BEGIN:VEVENT
DTSTART;TZID=America/New_York:20220416T130000
DTEND;TZID=America/New_York:20220416T170000
DTSTAMP:20260420T052059
CREATED:20220113T154103Z
LAST-MODIFIED:20220301T192844Z
UID:16598-1650114000-1650128400@www.historicstonington.org
SUMMARY:2nd Annual Rosalie Thorne McKenna Community Photography Exhibition
DESCRIPTION:We are proud to announce our second annual photography exhibition\, sponsored by ABC PhotoLab!\n\nNamed for portrait-photographer Rosalie “Rollie” McKenna\, this annual exhibition is held to inspire new generations of photographers\, as well as to continuously document our changing town by the people who live in it.\n\nThis year’s theme is “Neighbors.” All ages and skill levels are welcome to enter. Photos will be displayed at the Lighthouse Museum in the spring and the winners will be selected by the community.\n\nSubmit your photos to library@stoningtonhistory.org before April 1st to enter!
URL:https://www.historicstonington.org/event/2nd-annual-rosalie-thorne-mckenna-community-photography-exhibition/
LOCATION:CT
CATEGORIES:Museums & Library
ATTACH;FMTTYPE=image/png:https://www.historicstonington.org/wp-content/uploads/rollie-show-fb-cover.png
END:VEVENT
END:VCALENDAR