BEGIN:VCALENDAR
VERSION:2.0
PRODID:-//Historic Stonington - ECPv6.11.2.1//NONSGML v1.0//EN
CALSCALE:GREGORIAN
METHOD:PUBLISH
X-WR-CALNAME:Historic Stonington
X-ORIGINAL-URL:https://www.historicstonington.org
X-WR-CALDESC:Events for Historic Stonington
REFRESH-INTERVAL;VALUE=DURATION:PT1H
X-Robots-Tag:noindex
X-PUBLISHED-TTL:PT1H
BEGIN:VTIMEZONE
TZID:America/New_York
BEGIN:DAYLIGHT
TZOFFSETFROM:-0500
TZOFFSETTO:-0400
TZNAME:EDT
DTSTART:20250309T070000
END:DAYLIGHT
BEGIN:STANDARD
TZOFFSETFROM:-0400
TZOFFSETTO:-0500
TZNAME:EST
DTSTART:20251102T060000
END:STANDARD
END:VTIMEZONE
BEGIN:VEVENT
DTSTART;TZID=America/New_York:20251011T100000
DTEND;TZID=America/New_York:20251011T160000
DTSTAMP:20260419T092907
CREATED:20250805T172726Z
LAST-MODIFIED:20250805T172726Z
UID:21380-1760176800-1760198400@www.historicstonington.org
SUMMARY:Behind Stonington's Door: Step Inside - A Walking Tour of Historic Homes
DESCRIPTION:Tickets are $40.00 in advance\, $50.00 at the door. \nWalking Tour: Saturday\, October 11\, 2025\, 10:00 AM to 4:00 PM. \nRain or Shine.
URL:https://www.historicstonington.org/event/behind-stoningtons-door-step-inside-a-walking-tour-of-historic-homes/
LOCATION:CT
CATEGORIES:Programs & Events
ATTACH;FMTTYPE=application/pdf:https://www.historicstonington.org/wp-content/uploads/HistoricHomeTourPoster_8.4.25-3-1.pdf
END:VEVENT
END:VCALENDAR