BEGIN:VCALENDAR
VERSION:2.0
PRODID:-//Historic Stonington - ECPv6.11.2.1//NONSGML v1.0//EN
CALSCALE:GREGORIAN
METHOD:PUBLISH
X-WR-CALNAME:Historic Stonington
X-ORIGINAL-URL:https://www.historicstonington.org
X-WR-CALDESC:Events for Historic Stonington
REFRESH-INTERVAL;VALUE=DURATION:PT1H
X-Robots-Tag:noindex
X-PUBLISHED-TTL:PT1H
BEGIN:VTIMEZONE
TZID:UTC
BEGIN:STANDARD
TZOFFSETFROM:+0000
TZOFFSETTO:+0000
TZNAME:UTC
DTSTART:20170101T000000
END:STANDARD
END:VTIMEZONE
BEGIN:VEVENT
DTSTART;TZID=UTC:20190622T110000
DTEND;TZID=UTC:20190622T130000
DTSTAMP:20260420T005033
CREATED:20190627T233613Z
LAST-MODIFIED:20190731T135850Z
UID:2828-1561201200-1561208400@www.historicstonington.org
SUMMARY:Historic Walking Tour
DESCRIPTION:This fascinating Historic Walking Tour through the narrow streets of Stonington Borough depart on Saturdays at 11am from The Farmer’s Market at the Town Docks in June\, July and August. The tour lasts about an hour. Experienced guides will share the stories of historic homes\, sites\, battles\, the railroad and people that reflect Stonington’s rich 350 year history. \nOnce home to the Pequot Tribe of Southeastern Connecticut\, Stonington’s first European settlement dates to 1649 when Thomas Stanton settled on the banks of the Pawcatuck River. The Stonington Borough settlement began about 1750 when the advantages of Stonington’s harbor were first realized. Initially fishing and farming were the primary industries\, which eventually led to shipbuilding\, a vibrant coastal trade\, a West Indies trade\, and further exploration. Stonington’s sea captains sailed the world and built fantastic homes that survive today in this perfectly preserved peninsula. Explorers included Edmund Fanning\, who was also known as Pathfinder of the Pacific\, and Nathaniel Palmer\, credited with the discovery of Antarctica. Stonington has successfully defended her shores through two bombardments by British forces during the American Revolution and the War of 1812. Today\, Stonington is still home to Connecticut’s last commercial fishing fleet. \nTickets can be purchased on our website or at the Stonington Historical Society table at the Farmer’s Market.
URL:https://www.historicstonington.org/event/historic-walking-tour-3-2-2/
LOCATION:Stonington Farmer’s Market\, Town Docks\, Stonington\, CT\, 06378\, United States
CATEGORIES:Walking Tours
ATTACH;FMTTYPE=image/jpeg:https://www.historicstonington.org/wp-content/uploads/postcard-WT-e1563296575238.jpg
ORGANIZER;CN="The Stonington Historical Society":MAILTO:director@stoningtonhistory.org
END:VEVENT
BEGIN:VEVENT
DTSTART;TZID=UTC:20190615T110000
DTEND;TZID=UTC:20190615T130000
DTSTAMP:20260420T005033
CREATED:20190627T232705Z
LAST-MODIFIED:20190731T140021Z
UID:2825-1560596400-1560603600@www.historicstonington.org
SUMMARY:Historic Walking Tour
DESCRIPTION:This fascinating Historic Walking Tour through the narrow streets of Stonington Borough depart on Saturdays at 11am from The Farmer’s Market at the Town Docks in June\, July and August. The tour lasts about an hour. Experienced guides will share the stories of historic homes\, sites\, battles\, the railroad and people that reflect Stonington’s rich 350 year history. \nOnce home to the Pequot Tribe of Southeastern Connecticut\, Stonington’s first European settlement dates to 1649 when Thomas Stanton settled on the banks of the Pawcatuck River. The Stonington Borough settlement began about 1750 when the advantages of Stonington’s harbor were first realized. Initially fishing and farming were the primary industries\, which eventually led to shipbuilding\, a vibrant coastal trade\, a West Indies trade\, and further exploration. Stonington’s sea captains sailed the world and built fantastic homes that survive today in this perfectly preserved peninsula. Explorers included Edmund Fanning\, who was also known as Pathfinder of the Pacific\, and Nathaniel Palmer\, credited with the discovery of Antarctica. Stonington has successfully defended her shores through two bombardments by British forces during the American Revolution and the War of 1812. Today\, Stonington is still home to Connecticut’s last commercial fishing fleet. \nTickets can be purchased on our website or at the Stonington Historical Society table at the Farmer’s Market.
URL:https://www.historicstonington.org/event/historic-walking-tour-3-2/
LOCATION:Stonington Farmer’s Market\, Town Docks\, Stonington\, CT\, 06378\, United States
CATEGORIES:Walking Tours
ATTACH;FMTTYPE=image/jpeg:https://www.historicstonington.org/wp-content/uploads/postcard-WT-e1563296575238.jpg
ORGANIZER;CN="The Stonington Historical Society":MAILTO:director@stoningtonhistory.org
END:VEVENT
BEGIN:VEVENT
DTSTART;TZID=UTC:20190608T110000
DTEND;TZID=UTC:20190608T130000
DTSTAMP:20260420T005033
CREATED:20190627T232613Z
LAST-MODIFIED:20190731T135930Z
UID:2824-1559991600-1559998800@www.historicstonington.org
SUMMARY:Historic Walking Tour
DESCRIPTION:This fascinating Historic Walking Tour through the narrow streets of Stonington Borough depart on Saturdays at 11am from The Farmer’s Market at the Town Docks in June\, July and August. The tour lasts about an hour. Experienced guides will share the stories of historic homes\, sites\, battles\, the railroad and people that reflect Stonington’s rich 350 year history. \nOnce home to the Pequot Tribe of Southeastern Connecticut\, Stonington’s first European settlement dates to 1649 when Thomas Stanton settled on the banks of the Pawcatuck River. The Stonington Borough settlement began about 1750 when the advantages of Stonington’s harbor were first realized. Initially fishing and farming were the primary industries\, which eventually led to shipbuilding\, a vibrant coastal trade\, a West Indies trade\, and further exploration. Stonington’s sea captains sailed the world and built fantastic homes that survive today in this perfectly preserved peninsula. Explorers included Edmund Fanning\, who was also known as Pathfinder of the Pacific\, and Nathaniel Palmer\, credited with the discovery of Antarctica. Stonington has successfully defended her shores through two bombardments by British forces during the American Revolution and the War of 1812. Today\, Stonington is still home to Connecticut’s last commercial fishing fleet. \nTickets can be purchased on our website or at the Stonington Historical Society table at the Farmer’s Market.
URL:https://www.historicstonington.org/event/historic-walking-tour-3/
LOCATION:Stonington Farmer’s Market\, Town Docks\, Stonington\, CT\, 06378\, United States
CATEGORIES:Walking Tours
ATTACH;FMTTYPE=image/jpeg:https://www.historicstonington.org/wp-content/uploads/postcard-WT-e1563296575238.jpg
ORGANIZER;CN="The Stonington Historical Society":MAILTO:director@stoningtonhistory.org
END:VEVENT
BEGIN:VEVENT
DTSTART;TZID=UTC:20180825T110000
DTEND;TZID=UTC:20180825T123000
DTSTAMP:20260420T005033
CREATED:20180522T224505Z
LAST-MODIFIED:20190731T135942Z
UID:2591-1535194800-1535200200@www.historicstonington.org
SUMMARY:Historic Walking Tours
DESCRIPTION:This fascinating Historic Walking Tour through the narrow streets of Stonington Borough depart on Saturdays at 11am from The Farmer’s Market at the Town Docks in June\, July and August. The tour lasts about an hour. Experienced guides will share the stories of historic homes\, sites\, battles\, the railroad and people that reflect Stonington’s rich 350 year history. \nOnce home to the Pequot Tribe of Southeastern Connecticut\, Stonington’s first European settlement dates to 1649 when Thomas Stanton settled on the banks of the Pawcatuck River. The Stonington Borough settlement began about 1750 when the advantages of Stonington’s harbor were first realized. Initially fishing and farming were the primary industries\, which eventually led to shipbuilding\, a vibrant coastal trade\, a West Indies trade\, and further exploration. Stonington’s sea captains sailed the world and built fantastic homes that survive today in this perfectly preserved peninsula. Explorers included Edmund Fanning\, who was also known as Pathfinder of the Pacific\, and Nathaniel Palmer\, credited with the discovery of Antarctica. Stonington has successfully defended her shores through two bombardments by British forces during the American Revolution and the War of 1812. Today\, Stonington is still home to Connecticut’s last commercial fishing fleet. \nTickets can be purchased on our website or at the Stonington Historical Society table at the Farmer’s Market.
URL:https://www.historicstonington.org/event/historic-walking-tours-11/
LOCATION:Stonington Farmer’s Market\, Town Docks\, Stonington\, CT\, 06378\, United States
ORGANIZER;CN="The Stonington Historical Society":MAILTO:director@stoningtonhistory.org
END:VEVENT
BEGIN:VEVENT
DTSTART;TZID=UTC:20180818T110000
DTEND;TZID=UTC:20180818T123000
DTSTAMP:20260420T005033
CREATED:20180522T224357Z
LAST-MODIFIED:20190731T135954Z
UID:2589-1534590000-1534595400@www.historicstonington.org
SUMMARY:Historic Walking Tours
DESCRIPTION:This fascinating Historic Walking Tour through the narrow streets of Stonington Borough depart on Saturdays at 11am from The Farmer’s Market at the Town Docks in June\, July and August. The tour lasts about an hour. Experienced guides will share the stories of historic homes\, sites\, battles\, the railroad and people that reflect Stonington’s rich 350 year history. \nOnce home to the Pequot Tribe of Southeastern Connecticut\, Stonington’s first European settlement dates to 1649 when Thomas Stanton settled on the banks of the Pawcatuck River. The Stonington Borough settlement began about 1750 when the advantages of Stonington’s harbor were first realized. Initially fishing and farming were the primary industries\, which eventually led to shipbuilding\, a vibrant coastal trade\, a West Indies trade\, and further exploration. Stonington’s sea captains sailed the world and built fantastic homes that survive today in this perfectly preserved peninsula. Explorers included Edmund Fanning\, who was also known as Pathfinder of the Pacific\, and Nathaniel Palmer\, credited with the discovery of Antarctica. Stonington has successfully defended her shores through two bombardments by British forces during the American Revolution and the War of 1812. Today\, Stonington is still home to Connecticut’s last commercial fishing fleet. \nTickets can be purchased on our website or at the Stonington Historical Society table at the Farmer’s Market.
URL:https://www.historicstonington.org/event/historic-walking-tours-10/
LOCATION:Stonington Farmer’s Market\, Town Docks\, Stonington\, CT\, 06378\, United States
ORGANIZER;CN="The Stonington Historical Society":MAILTO:director@stoningtonhistory.org
END:VEVENT
BEGIN:VEVENT
DTSTART;TZID=UTC:20180811T110000
DTEND;TZID=UTC:20180811T123000
DTSTAMP:20260420T005033
CREATED:20180522T224656Z
LAST-MODIFIED:20180522T224656Z
UID:2592-1533985200-1533990600@www.historicstonington.org
SUMMARY:Historic Walking Tours
DESCRIPTION:Take a guided tour of Stonington Village.
URL:https://www.historicstonington.org/event/historic-walking-tours-12/
LOCATION:Stonington Farmer’s Market\, Town Docks\, Stonington\, CT\, 06378\, United States
ORGANIZER;CN="The Stonington Historical Society":MAILTO:director@stoningtonhistory.org
END:VEVENT
BEGIN:VEVENT
DTSTART;TZID=UTC:20180804T110000
DTEND;TZID=UTC:20180804T123000
DTSTAMP:20260420T005033
CREATED:20180522T224159Z
LAST-MODIFIED:20180522T224159Z
UID:2587-1533380400-1533385800@www.historicstonington.org
SUMMARY:Historic Walking Tours
DESCRIPTION:Take a guided tour of Stonington Village.
URL:https://www.historicstonington.org/event/historic-walking-tours-8/
LOCATION:Stonington Farmer’s Market\, Town Docks\, Stonington\, CT\, 06378\, United States
ORGANIZER;CN="The Stonington Historical Society":MAILTO:director@stoningtonhistory.org
END:VEVENT
BEGIN:VEVENT
DTSTART;TZID=UTC:20180728T110000
DTEND;TZID=UTC:20180728T123000
DTSTAMP:20260420T005033
CREATED:20180522T223945Z
LAST-MODIFIED:20180522T223945Z
UID:2586-1532775600-1532781000@www.historicstonington.org
SUMMARY:Historic Walking Tours
DESCRIPTION:Take a guided tour of Stonington Village.
URL:https://www.historicstonington.org/event/historic-walking-tours-7/
LOCATION:Stonington Farmer’s Market\, Town Docks\, Stonington\, CT\, 06378\, United States
ORGANIZER;CN="The Stonington Historical Society":MAILTO:director@stoningtonhistory.org
END:VEVENT
BEGIN:VEVENT
DTSTART;TZID=UTC:20180721T110000
DTEND;TZID=UTC:20180721T123000
DTSTAMP:20260420T005033
CREATED:20180522T223851Z
LAST-MODIFIED:20180522T223851Z
UID:2585-1532170800-1532176200@www.historicstonington.org
SUMMARY:Historic Walking Tour
DESCRIPTION:Take a guided tour of Stonington Village.
URL:https://www.historicstonington.org/event/historic-walking-tour-2/
LOCATION:Stonington Farmer’s Market\, Town Docks\, Stonington\, CT\, 06378\, United States
ORGANIZER;CN="The Stonington Historical Society":MAILTO:director@stoningtonhistory.org
END:VEVENT
BEGIN:VEVENT
DTSTART;TZID=UTC:20180714T110000
DTEND;TZID=UTC:20180714T123000
DTSTAMP:20260420T005033
CREATED:20180522T223745Z
LAST-MODIFIED:20180522T223745Z
UID:2584-1531566000-1531571400@www.historicstonington.org
SUMMARY:Historic Walking Tour
DESCRIPTION:Take a guided tour of Stonington Village.
URL:https://www.historicstonington.org/event/historic-walking-tour/
LOCATION:Stonington Farmer’s Market\, Town Docks\, Stonington\, CT\, 06378\, United States
ORGANIZER;CN="The Stonington Historical Society":MAILTO:director@stoningtonhistory.org
END:VEVENT
BEGIN:VEVENT
DTSTART;TZID=UTC:20180707T110000
DTEND;TZID=UTC:20180707T133000
DTSTAMP:20260420T005033
CREATED:20180522T223638Z
LAST-MODIFIED:20180522T223638Z
UID:2583-1530961200-1530970200@www.historicstonington.org
SUMMARY:Historic Walking Tours
DESCRIPTION:Take a guided tour of Stonington Village.
URL:https://www.historicstonington.org/event/historic-walking-tours-6/
LOCATION:Stonington Farmer’s Market\, Town Docks\, Stonington\, CT\, 06378\, United States
ORGANIZER;CN="The Stonington Historical Society":MAILTO:director@stoningtonhistory.org
END:VEVENT
BEGIN:VEVENT
DTSTART;TZID=UTC:20180706T180000
DTEND;TZID=UTC:20180706T193000
DTSTAMP:20260420T005033
CREATED:20180510T180140Z
LAST-MODIFIED:20180510T180154Z
UID:2569-1530900000-1530905400@www.historicstonington.org
SUMMARY:Cormac O'Malley Delivers a Talk on Helen Hooker
DESCRIPTION:
URL:https://www.historicstonington.org/event/cormac-omalley-delivers-talk-helen-hooker/
LOCATION:The R. W. Woolworth Library & Research Center\, 40 Palmer Street\, Stonington\, CT\, 06378\, United States
ORGANIZER;CN="The Stonington Historical Society":MAILTO:director@stoningtonhistory.org
END:VEVENT
BEGIN:VEVENT
DTSTART;TZID=UTC:20180630T180000
DTEND;TZID=UTC:20180630T230000
DTSTAMP:20260420T005033
CREATED:20180323T003628Z
LAST-MODIFIED:20180323T003650Z
UID:2551-1530381600-1530399600@www.historicstonington.org
SUMMARY:Sea to Shining Sea: Annual Gala of the Stonington Historical Society
DESCRIPTION:
URL:https://www.historicstonington.org/event/sea-shining-sea-annual-gala-stonington-historical-society/
LOCATION:The Old Lighthouse Museum\, 7 Water Street\, Stonington\, CT\, 06378\, United States
END:VEVENT
BEGIN:VEVENT
DTSTART;TZID=UTC:20180630T110000
DTEND;TZID=UTC:20180630T123000
DTSTAMP:20260420T005033
CREATED:20180522T223442Z
LAST-MODIFIED:20180522T223442Z
UID:2581-1530356400-1530361800@www.historicstonington.org
SUMMARY:Historic Walking Tours
DESCRIPTION:Take a guided tour of Stonington Village.
URL:https://www.historicstonington.org/event/historic-walking-tours-5/
LOCATION:Stonington Farmer’s Market\, Town Docks\, Stonington\, CT\, 06378\, United States
ORGANIZER;CN="The Stonington Historical Society":MAILTO:director@stoningtonhistory.org
END:VEVENT
BEGIN:VEVENT
DTSTART;TZID=UTC:20180629T180000
DTEND;TZID=UTC:20180629T180000
DTSTAMP:20260420T005033
CREATED:20180323T003521Z
LAST-MODIFIED:20180323T003521Z
UID:2550-1530295200-1530295200@www.historicstonington.org
SUMMARY:Gala Preview Party
DESCRIPTION:
URL:https://www.historicstonington.org/event/gala-preview-party/
LOCATION:The Old Lighthouse Museum\, 7 Water Street\, Stonington\, CT\, 06378\, United States
END:VEVENT
BEGIN:VEVENT
DTSTART;TZID=UTC:20180623T110000
DTEND;TZID=UTC:20180623T123000
DTSTAMP:20260420T005033
CREATED:20180522T223327Z
LAST-MODIFIED:20180522T223327Z
UID:2580-1529751600-1529757000@www.historicstonington.org
SUMMARY:Historic Walking Tours
DESCRIPTION:Take a guided tour of Stonington Village.
URL:https://www.historicstonington.org/event/historic-walking-tours-4/
LOCATION:Stonington Farmer’s Market\, Town Docks\, Stonington\, CT\, 06378\, United States
END:VEVENT
BEGIN:VEVENT
DTSTART;TZID=UTC:20180616T110000
DTEND;TZID=UTC:20180616T123000
DTSTAMP:20260420T005033
CREATED:20180522T223000Z
LAST-MODIFIED:20180522T223000Z
UID:2579-1529146800-1529152200@www.historicstonington.org
SUMMARY:Historic Walking Tours
DESCRIPTION:Take a guided tour of Stonington Village.
URL:https://www.historicstonington.org/event/historic-walking-tours-3/
LOCATION:Stonington Farmer’s Market\, Town Docks\, Stonington\, CT\, 06378\, United States
END:VEVENT
BEGIN:VEVENT
DTSTART;TZID=UTC:20180615T180000
DTEND;TZID=UTC:20180615T200000
DTSTAMP:20260420T005033
CREATED:20180509T232032Z
LAST-MODIFIED:20180509T232032Z
UID:2568-1529085600-1529092800@www.historicstonington.org
SUMMARY:Nora Fox & Thor Jensen Play the Lighthouse Lawn
DESCRIPTION:
URL:https://www.historicstonington.org/event/nora-fox-thor-jensen-play-lighthouse-lawn/
LOCATION:The Old Lighthouse Museum\, 7 Water Street\, Stonington\, CT\, 06378\, United States
ORGANIZER;CN="The Stonington Historical Society":MAILTO:director@stoningtonhistory.org
END:VEVENT
BEGIN:VEVENT
DTSTART;TZID=UTC:20180609T110000
DTEND;TZID=UTC:20180609T123000
DTSTAMP:20260420T005033
CREATED:20180522T222714Z
LAST-MODIFIED:20180522T222714Z
UID:2578-1528542000-1528547400@www.historicstonington.org
SUMMARY:Historic Walking Tours
DESCRIPTION:Take a guided tour of Stonington Village.
URL:https://www.historicstonington.org/event/historic-walking-tours-2/
LOCATION:Stonington Farmer’s Market\, Town Docks\, Stonington\, CT\, 06378\, United States
END:VEVENT
BEGIN:VEVENT
DTSTART;TZID=UTC:20180602T110000
DTEND;TZID=UTC:20180602T130000
DTSTAMP:20260420T005033
CREATED:20180522T222212Z
LAST-MODIFIED:20180522T222212Z
UID:2576-1527937200-1527944400@www.historicstonington.org
SUMMARY:Historic Walking Tours
DESCRIPTION:Take a guided tour of Stonington Village with our Museum Curator Beth Moore.
URL:https://www.historicstonington.org/event/historic-walking-tours/
LOCATION:Stonington Farmer’s Market\, Town Docks\, Stonington\, CT\, 06378\, United States
ORGANIZER;CN="The Stonington Historical Society":MAILTO:director@stoningtonhistory.org
END:VEVENT
BEGIN:VEVENT
DTSTART;TZID=UTC:20180522T080000
DTEND;TZID=UTC:20180522T170000
DTSTAMP:20260420T005033
CREATED:20180522T224250Z
LAST-MODIFIED:20180522T224250Z
UID:2588-1526976000-1527008400@www.historicstonington.org
SUMMARY:Historic Walking Tours
DESCRIPTION:Take a guided tour of Stonington Village.
URL:https://www.historicstonington.org/event/historic-walking-tours-9/
LOCATION:Stonington Farmer’s Market\, Town Docks\, Stonington\, CT\, 06378\, United States
ORGANIZER;CN="The Stonington Historical Society":MAILTO:director@stoningtonhistory.org
END:VEVENT
BEGIN:VEVENT
DTSTART;TZID=UTC:20180520T160000
DTEND;TZID=UTC:20180520T180000
DTSTAMP:20260420T005033
CREATED:20180323T003413Z
LAST-MODIFIED:20180323T003413Z
UID:2549-1526832000-1526839200@www.historicstonington.org
SUMMARY:Annual Public Meeting of the Stonington Historical Society
DESCRIPTION:
URL:https://www.historicstonington.org/event/annual-public-meeting-stonington-historical-society/
LOCATION:The R. W. Woolworth Library & Research Center\, 40 Palmer Street\, Stonington\, CT\, 06378\, United States
END:VEVENT
BEGIN:VEVENT
DTSTART;TZID=UTC:20180510T180000
DTEND;TZID=UTC:20180510T193000
DTSTAMP:20260420T005033
CREATED:20180323T003258Z
LAST-MODIFIED:20180323T003258Z
UID:2548-1525975200-1525980600@www.historicstonington.org
SUMMARY:Stones of Stonington: a Talk by Mark Starr
DESCRIPTION:
URL:https://www.historicstonington.org/event/stones-stonington-talk-mark-starr/
LOCATION:The La Grua Center\, 32 Water Street\, Stonington\, CT\, 06378\, United States
END:VEVENT
BEGIN:VEVENT
DTSTART;TZID=UTC:20180504T180000
DTEND;TZID=UTC:20180504T193000
DTSTAMP:20260420T005033
CREATED:20180323T003137Z
LAST-MODIFIED:20180323T003137Z
UID:2547-1525456800-1525462200@www.historicstonington.org
SUMMARY:A Talk on Shawondasee by Michael Waters
DESCRIPTION:
URL:https://www.historicstonington.org/event/talk-shawondasee-michael-waters/
LOCATION:Captain Palmer House
END:VEVENT
BEGIN:VEVENT
DTSTART;TZID=UTC:20180421T130000
DTEND;TZID=UTC:20180421T160000
DTSTAMP:20260420T005033
CREATED:20180323T002951Z
LAST-MODIFIED:20180323T002951Z
UID:2546-1524315600-1524326400@www.historicstonington.org
SUMMARY:Irish Presence: Digitization Day
DESCRIPTION:
URL:https://www.historicstonington.org/event/irish-presence-digitization-day/
LOCATION:The R. W. Woolworth Library & Research Center\, 40 Palmer Street\, Stonington\, CT\, 06378\, United States
END:VEVENT
BEGIN:VEVENT
DTSTART;TZID=UTC:20180412T180000
DTEND;TZID=UTC:20180412T193000
DTSTAMP:20260420T005033
CREATED:20180323T002824Z
LAST-MODIFIED:20180323T002824Z
UID:2545-1523556000-1523561400@www.historicstonington.org
SUMMARY:Five Forts in Stonington: A Talk by Bob Suppicich
DESCRIPTION:
URL:https://www.historicstonington.org/event/five-forts-stonington-talk-bob-suppicich/
LOCATION:The La Grua Center\, 32 Water Street\, Stonington\, CT\, 06378\, United States
END:VEVENT
BEGIN:VEVENT
DTSTART;TZID=UTC:20180108T080000
DTEND;TZID=UTC:20180108T170000
DTSTAMP:20260420T005033
CREATED:20180108T213343Z
LAST-MODIFIED:20180108T214951Z
UID:2496-1515398400-1515430800@www.historicstonington.org
SUMMARY:Lighting the Way–Celebrating Stonington's Lighthouse
DESCRIPTION:January ~ February 2018 \nPreview Party/Opening Reception Friday\, January 12 at 5-7pm \nLa Grua Center and Stonington Historical Society are pleased to present this exhibit celebrating Stonington’s iconic lighthouse. Artwork in all forms will be on display\, from paintings to photographs and fiber art and more! Exhibit will run through the end of February.
URL:https://www.historicstonington.org/event/lighting-way-celebrating-stoningtons-lighthouse/
LOCATION:CT
END:VEVENT
BEGIN:VEVENT
DTSTART;TZID=UTC:20171216T180000
DTEND;TZID=UTC:20171216T200000
DTSTAMP:20260420T005033
CREATED:20171211T201417Z
LAST-MODIFIED:20171211T201439Z
UID:2491-1513447200-1513454400@www.historicstonington.org
SUMMARY:Holiday Harpsichord Concert
DESCRIPTION:Holiday Harpsichord Concert in Stonington \nSaturday\, December 16\, 2016 – 6 p.m. \nNathaniel B. Palmer House located at 40 Palmer Street\, Stonington\, CT 06378 \n  \nJoin pianist and harpsichordist Elena Zamolodchikova for an evening of beautiful music in the historic Captain Palmer House. This acclaimed musician will delight you with sweet and joyous harpsichord music including pieces by J.S. Bach\, Händel\, Soler\, Scarlatti\, and more. The hour-long program will conclude with a reception of mulled wine and canapés. Tickets are $20 for the general public\, $18 for members of the Stonington Historical Society\, and are required for admission. Tickets may be purchased at the door or online through history1895stg.wpenginepowered.com. The concert will be take place at the historic Nathaniel B. Palmer House located at 40 Palmer Street\, Stonington\, CT 06378. \nHarpsichord manufacturing is one of Stonington’s hidden treasures! For more than forty years\, Stonington has been a center of harpsichord production\, and home to Zuckermann Harpsichords International\, the largest harpsichord workshop in the United States producing historically informed instruments. This keyboard instrument originated in the 15th century and after losing popularity in the 19th century has experienced a revival among early music enthusiasts in recent years.  Elena Zamolodchikova works at Zuckermann Harpsichords International and will perform on a harpsichord donated by the company. \nMs. Zamolodchikova specialized in historical keyboard performance at the Julliard School before joining Zuckermann as harpsichordist in residence. \nFor more information\, please contact the Stonington Historical Society at (860) 535-8445 x11.
URL:https://www.historicstonington.org/event/holiday-harpsichord-concert/
LOCATION:Captain Palmer House
ORGANIZER;CN="The Stonington Historical Society":MAILTO:director@stoningtonhistory.org
END:VEVENT
BEGIN:VEVENT
DTSTART;TZID=UTC:20171130T180000
DTEND;TZID=UTC:20171130T200000
DTSTAMP:20260420T005033
CREATED:20171005T185824Z
LAST-MODIFIED:20171005T185824Z
UID:2460-1512064800-1512072000@www.historicstonington.org
SUMMARY:Deck the Walls
DESCRIPTION:
URL:https://www.historicstonington.org/event/deck-the-walls/
LOCATION:Captain Palmer House
END:VEVENT
BEGIN:VEVENT
DTSTART;TZID=UTC:20171109T180000
DTEND;TZID=UTC:20171109T193000
DTSTAMP:20260420T005033
CREATED:20171005T185610Z
LAST-MODIFIED:20171005T191429Z
UID:2459-1510250400-1510255800@www.historicstonington.org
SUMMARY:Dave Erskine Presents: Fallen Heroes
DESCRIPTION:Join local historians Dave Erskine and Bob Supp for an program remembering Stonington’s Gold Star Veterans.
URL:https://www.historicstonington.org/event/dave-erskine-presents-fallen-heroes/
LOCATION:Pawcatuck VFW
END:VEVENT
END:VCALENDAR