BEGIN:VCALENDAR
VERSION:2.0
PRODID:-//Historic Stonington - ECPv6.11.2.1//NONSGML v1.0//EN
CALSCALE:GREGORIAN
METHOD:PUBLISH
X-WR-CALNAME:Historic Stonington
X-ORIGINAL-URL:https://www.historicstonington.org
X-WR-CALDESC:Events for Historic Stonington
REFRESH-INTERVAL;VALUE=DURATION:PT1H
X-Robots-Tag:noindex
X-PUBLISHED-TTL:PT1H
BEGIN:VTIMEZONE
TZID:America/New_York
BEGIN:DAYLIGHT
TZOFFSETFROM:-0500
TZOFFSETTO:-0400
TZNAME:EDT
DTSTART:20210314T070000
END:DAYLIGHT
BEGIN:STANDARD
TZOFFSETFROM:-0400
TZOFFSETTO:-0500
TZNAME:EST
DTSTART:20211107T060000
END:STANDARD
BEGIN:DAYLIGHT
TZOFFSETFROM:-0500
TZOFFSETTO:-0400
TZNAME:EDT
DTSTART:20220313T070000
END:DAYLIGHT
BEGIN:STANDARD
TZOFFSETFROM:-0400
TZOFFSETTO:-0500
TZNAME:EST
DTSTART:20221106T060000
END:STANDARD
END:VTIMEZONE
BEGIN:VEVENT
DTSTART;TZID=America/New_York:20211202T160000
DTEND;TZID=America/New_York:20211202T200000
DTSTAMP:20260420T103419
CREATED:20211030T161810Z
LAST-MODIFIED:20211101T180635Z
UID:16406-1638460800-1638475200@www.historicstonington.org
SUMMARY:Deck the Walls Preview Party!
DESCRIPTION:
URL:https://www.historicstonington.org/event/deck-the-walls-preview-party-2/
LOCATION:Captain Palmer House
CATEGORIES:Programs & Events
END:VEVENT
BEGIN:VEVENT
DTSTART;TZID=America/New_York:20211203T100000
DTEND;TZID=America/New_York:20211203T160000
DTSTAMP:20260420T103419
CREATED:20211101T180944Z
LAST-MODIFIED:20211101T180956Z
UID:16431-1638525600-1638547200@www.historicstonington.org
SUMMARY:Deck the Walls Open House
DESCRIPTION:
URL:https://www.historicstonington.org/event/deck-the-walls-open-house/
LOCATION:Captain Palmer House
CATEGORIES:Programs & Events
ATTACH;FMTTYPE=image/jpeg:https://www.historicstonington.org/wp-content/uploads/Deck-the-Walls-3-copy.jpg
END:VEVENT
BEGIN:VEVENT
DTSTART;TZID=America/New_York:20211209T180000
DTEND;TZID=America/New_York:20211209T200000
DTSTAMP:20260420T103419
CREATED:20211101T174223Z
LAST-MODIFIED:20211109T171738Z
UID:16426-1639072800-1639080000@www.historicstonington.org
SUMMARY:The Nightcap Before Christmas
DESCRIPTION:Join Library Director Chelsea Mitchell for a night of delicious and festive historical drinks and foods on Thursday\, December 9th from 6-8pm in the Palmer House. Ever wanted to experience a true Charles Dickens Christmas? Come and imbibe some holiday spirits\, and learn about Christmas traditions of the past and present. We’d love for you to join us! Tickets may be purchased by going to our homepage and clicking “Buy Tickets” in the upper right corner.\nIf you have any questions or concerns\, please email Chelsea Mitchell at cmitchell@stoningtonhistory.org.
URL:https://www.historicstonington.org/event/the-nightcap-before-christmas/
LOCATION:Captain Palmer House
CATEGORIES:Programs & Events
ATTACH;FMTTYPE=image/png:https://www.historicstonington.org/wp-content/uploads/rodeo.png
ORGANIZER;CN="The Stonington Historical Society":MAILTO:director@stoningtonhistory.org
END:VEVENT
BEGIN:VEVENT
DTSTART;TZID=America/New_York:20211224T080000
DTEND;TZID=America/New_York:20220101T170000
DTSTAMP:20260420T103419
CREATED:20211203T213925Z
LAST-MODIFIED:20211203T213933Z
UID:16539-1640332800-1641056400@www.historicstonington.org
SUMMARY:Woolworth Library and Palmer House Closed
DESCRIPTION:
URL:https://www.historicstonington.org/event/woolworth-library-and-palmer-house-closed/
LOCATION:CT
CATEGORIES:Museums & Library
END:VEVENT
END:VCALENDAR