BEGIN:VCALENDAR
VERSION:2.0
PRODID:-//Historic Stonington - ECPv6.11.2.1//NONSGML v1.0//EN
CALSCALE:GREGORIAN
METHOD:PUBLISH
X-WR-CALNAME:Historic Stonington
X-ORIGINAL-URL:https://www.historicstonington.org
X-WR-CALDESC:Events for Historic Stonington
REFRESH-INTERVAL;VALUE=DURATION:PT1H
X-Robots-Tag:noindex
X-PUBLISHED-TTL:PT1H
BEGIN:VTIMEZONE
TZID:America/New_York
BEGIN:DAYLIGHT
TZOFFSETFROM:-0500
TZOFFSETTO:-0400
TZNAME:EDT
DTSTART:20220313T070000
END:DAYLIGHT
BEGIN:STANDARD
TZOFFSETFROM:-0400
TZOFFSETTO:-0500
TZNAME:EST
DTSTART:20221106T060000
END:STANDARD
END:VTIMEZONE
BEGIN:VEVENT
DTSTART;TZID=America/New_York:20220203T130000
DTEND;TZID=America/New_York:20220203T200000
DTSTAMP:20260420T070832
CREATED:20220113T165953Z
LAST-MODIFIED:20220113T165953Z
UID:16644-1643893200-1643918400@www.historicstonington.org
SUMMARY:MEMBERS ONLY: First Look at “My Freedom is a Privilege that Nothing Else Can Equal”
DESCRIPTION:Members get a first look at our newest exhibition: ““My Freedom is a Privilege that Nothing Else Can Equal” The Story of Venture Smith and Slavery in Stonington. \nStop by the Lighthouse Museum anytime between 1 – 8pm on Thursday\, February 3rd to see the exhibit before it opens to the public!
URL:https://www.historicstonington.org/event/members-only-first-look-at-my-freedom-is-a-privilege-that-nothing-else-can-equal/
LOCATION:CT
CATEGORIES:Member Events
ATTACH;FMTTYPE=image/png:https://www.historicstonington.org/wp-content/uploads/2022-Event-Squares.png
END:VEVENT
BEGIN:VEVENT
DTSTART;TZID=America/New_York:20220204T100000
DTEND;TZID=America/New_York:20220204T160000
DTSTAMP:20260420T070832
CREATED:20220113T155431Z
LAST-MODIFIED:20220113T155554Z
UID:16614-1643968800-1643990400@www.historicstonington.org
SUMMARY:Special Hours for “My Freedom is a Privilege that Nothing Else Can Equal”
DESCRIPTION:Join us at the Lighthouse Museum for special hours to view our newest exhibition: “My Freedom is a Privilege that Nothing Else Can Equal:” The Story of Venture Smith and Slavery in Stonington. \nAdmission is free for all. \nThe project received financial support from the State of Connecticut’s Department of Economic and Community Development.
URL:https://www.historicstonington.org/event/special-hours-for-my-freedom-is-a-privilege-that-nothing-else-can-equal/
LOCATION:The Old Lighthouse Museum\, 7 Water Street\, Stonington\, CT\, 06378\, United States
CATEGORIES:Museums & Library
ATTACH;FMTTYPE=image/png:https://www.historicstonington.org/wp-content/uploads/My-Freedom-is-a-Privilege-that-Nothing-Else-Can-Equal.png
END:VEVENT
END:VCALENDAR