BEGIN:VCALENDAR
VERSION:2.0
PRODID:-//Historic Stonington - ECPv6.11.2.1//NONSGML v1.0//EN
CALSCALE:GREGORIAN
METHOD:PUBLISH
X-ORIGINAL-URL:https://www.historicstonington.org
X-WR-CALDESC:Events for Historic Stonington
REFRESH-INTERVAL;VALUE=DURATION:PT1H
X-Robots-Tag:noindex
X-PUBLISHED-TTL:PT1H
BEGIN:VTIMEZONE
TZID:America/New_York
BEGIN:DAYLIGHT
TZOFFSETFROM:-0500
TZOFFSETTO:-0400
TZNAME:EDT
DTSTART:20220313T070000
END:DAYLIGHT
BEGIN:STANDARD
TZOFFSETFROM:-0400
TZOFFSETTO:-0500
TZNAME:EST
DTSTART:20221106T060000
END:STANDARD
END:VTIMEZONE
BEGIN:VEVENT
DTSTART;TZID=America/New_York:20220401T080000
DTEND;TZID=America/New_York:20220401T170000
DTSTAMP:20260420T032736
CREATED:20220104T204046Z
LAST-MODIFIED:20220104T204114Z
UID:16591-1648800000-1648832400@www.historicstonington.org
SUMMARY:Rosalie Thorne McKenna Community Photo Contest Entry Deadline
DESCRIPTION:In an effort to preserve and celebrate the town’s artistic legacy\, we are proud to present a community-wide photography contest. Named for portrait-photographer Rosalie “Rollie” McKenna\, this annual photography contest is held to inspire new generations of photographers\, as well as to continuously document our changing town by the people who live in it. We also hold this contest in memory of Rollie McKenna\, who left a photographic legacy to Stonington and the world through her determination\, creativity and passion for photography. May we always remember the path she forged for women in the arts! \n  \nRules : \n\nAll ages are welcome to participate\n\n  \n\nPhotographs entered must be original work of the contestant\n\n  \n\nPhotographs may be shot digitally or on film\n\n  \n\nContestants must be a current resident of Stonington\, Westerly or Mystic\n\n  \n\nPhotographs must have been shot within the past year (2021)\n\n  \n\nPhotographs must be entered with a caption that includes the following information: title of the image\, date and location where it was taken\, contestant’s name\, and a brief explanation of how the image relates to this year’s theme. If the image features people\, please identify them.\n\n  \n\nThe theme for the contest is “Neighbors.” What does living in the town of Stonington mean to you? How do you interpret neighbors or neighborhoods?\n\n  \n\nAll photographs entered will be retained in the archives of the Stonington Historical Society. The Stonington Historical Society reserves the right to use these photographs with a credit line to the photographer in advertising or promotional materials.\n\n  \n\nWinners will be selected by the community by popular vote.\n\n  \n\nFirst place wins a Family Membership to the Stonington Historical Society. In addition\, the first prize winner will have access to the Maurice LaGrua darkroom at the Woolworth Library\, and act as an honorary photography fellow. Second place wins a Family Membership. Third place wins an Individual Membership. The three winning images will be displayed at the Lighthouse Museum for the 2022 season.\n\n  \n\nMcKenna Honorary Photography Fellow has access during Library open hours to the Maurice LaGrua darkroom for one year. Chemistry materials are provided by the Historical Society\, but film and paper must be supplied by the fellow. If the winner has no experience in dark room techniques\, lessons can be arranged. Two copies of Any images produced in the darkroom will be donated to the Stonington Historical Society\, and serve to increase our modern documentation of the town for posterity.
URL:https://www.historicstonington.org/event/rosalie-thorne-mckenna-community-photo-contest-entry-deadline/
LOCATION:CT
CATEGORIES:Programs & Events
ATTACH;FMTTYPE=image/png:https://www.historicstonington.org/wp-content/uploads/2022-RMCK-photo-contest-1.png
ORGANIZER;CN="The Stonington Historical Society":MAILTO:director@stoningtonhistory.org
END:VEVENT
BEGIN:VEVENT
DTSTART;TZID=America/New_York:20220406T180000
DTEND;TZID=America/New_York:20220406T193000
DTSTAMP:20260420T032736
CREATED:20220301T133302Z
LAST-MODIFIED:20220301T133302Z
UID:16679-1649268000-1649273400@www.historicstonington.org
SUMMARY:CT and the Pandemic of 1918
DESCRIPTION:Join the Stonington Historical at the La Grua Center for a presentation by the Connecticut Historical Society on Connecticut\, Stonington\, and the Pandemic of 1918!\n\nEvent is free. Space is limited; guests are asked to wear a mask during the event.\nEvent will be livestreamed on our Facebook page.
URL:https://www.historicstonington.org/event/ct-and-the-pandemic-of-1918/
LOCATION:The La Grua Center\, 32 Water Street\, Stonington\, CT\, 06378\, United States
CATEGORIES:Programs & Events
ATTACH;FMTTYPE=image/png:https://www.historicstonington.org/wp-content/uploads/unnamed.png
END:VEVENT
BEGIN:VEVENT
DTSTART;TZID=America/New_York:20220416T130000
DTEND;TZID=America/New_York:20220416T170000
DTSTAMP:20260420T032736
CREATED:20220113T154103Z
LAST-MODIFIED:20220301T192844Z
UID:16598-1650114000-1650128400@www.historicstonington.org
SUMMARY:2nd Annual Rosalie Thorne McKenna Community Photography Exhibition
DESCRIPTION:We are proud to announce our second annual photography exhibition\, sponsored by ABC PhotoLab!\n\nNamed for portrait-photographer Rosalie “Rollie” McKenna\, this annual exhibition is held to inspire new generations of photographers\, as well as to continuously document our changing town by the people who live in it.\n\nThis year’s theme is “Neighbors.” All ages and skill levels are welcome to enter. Photos will be displayed at the Lighthouse Museum in the spring and the winners will be selected by the community.\n\nSubmit your photos to library@stoningtonhistory.org before April 1st to enter!
URL:https://www.historicstonington.org/event/2nd-annual-rosalie-thorne-mckenna-community-photography-exhibition/
LOCATION:CT
CATEGORIES:Museums & Library
ATTACH;FMTTYPE=image/png:https://www.historicstonington.org/wp-content/uploads/rollie-show-fb-cover.png
END:VEVENT
BEGIN:VEVENT
DTSTART;TZID=America/New_York:20220423T100000
DTEND;TZID=America/New_York:20220423T120000
DTSTAMP:20260420T032736
CREATED:20220113T165351Z
LAST-MODIFIED:20220113T165351Z
UID:16641-1650708000-1650715200@www.historicstonington.org
SUMMARY:MEMBERS ONLY: Stonington's Literary Legacy Walking Tour
DESCRIPTION:Join SHS staff for a walking tour highlighting Stonington’s literary legacy!
URL:https://www.historicstonington.org/event/members-only-stoningtons-literary-legacy-walking-tour/
LOCATION:CT
CATEGORIES:Member Events
ATTACH;FMTTYPE=image/png:https://www.historicstonington.org/wp-content/uploads/3.png
END:VEVENT
END:VCALENDAR