BEGIN:VCALENDAR
VERSION:2.0
PRODID:-//Historic Stonington - ECPv6.11.2.1//NONSGML v1.0//EN
CALSCALE:GREGORIAN
METHOD:PUBLISH
X-ORIGINAL-URL:https://www.historicstonington.org
X-WR-CALDESC:Events for Historic Stonington
REFRESH-INTERVAL;VALUE=DURATION:PT1H
X-Robots-Tag:noindex
X-PUBLISHED-TTL:PT1H
BEGIN:VTIMEZONE
TZID:America/New_York
BEGIN:DAYLIGHT
TZOFFSETFROM:-0500
TZOFFSETTO:-0400
TZNAME:EDT
DTSTART:20220313T070000
END:DAYLIGHT
BEGIN:STANDARD
TZOFFSETFROM:-0400
TZOFFSETTO:-0500
TZNAME:EST
DTSTART:20221106T060000
END:STANDARD
END:VTIMEZONE
BEGIN:VEVENT
DTSTART;TZID=America/New_York:20220513T100000
DTEND;TZID=America/New_York:20220513T160000
DTSTAMP:20260420T012952
CREATED:20220510T185453Z
LAST-MODIFIED:20220526T185338Z
UID:16827-1652436000-1652457600@www.historicstonington.org
SUMMARY:Museums Open
DESCRIPTION:
URL:https://www.historicstonington.org/event/museums-open/
LOCATION:The Old Lighthouse Museum\, 7 Water Street\, Stonington\, CT\, 06378\, United States
CATEGORIES:Museums & Library
ATTACH;FMTTYPE=image/png:https://www.historicstonington.org/wp-content/uploads/Lighthouse-and-Palmer-House-1.png
ORGANIZER;CN="The Stonington Historical Society":MAILTO:director@stoningtonhistory.org
END:VEVENT
BEGIN:VEVENT
DTSTART;TZID=America/New_York:20220526T180000
DTEND;TZID=America/New_York:20220526T200000
DTSTAMP:20260420T012952
CREATED:20220301T132822Z
LAST-MODIFIED:20220420T011340Z
UID:16677-1653588000-1653595200@www.historicstonington.org
SUMMARY:The Bee's Knees
DESCRIPTION:Join us for the third in our series of historic drink programs\, this time at the Lighthouse. Chelsea Mitchell\, the Librarian with a Liquor License will be pouring a selection of cocktails with a prohibition theme from 6-8pm. In addition to fun and interesting drinks\, you’ll also have the chance to try some 1920s snacks and bites.  Tickets are $35 for non-members and $25 for members and will be available May 1st.
URL:https://www.historicstonington.org/event/the-bees-knees/
LOCATION:CT
CATEGORIES:Programs & Events
ATTACH;FMTTYPE=image/png:https://www.historicstonington.org/wp-content/uploads/2022-Event-Squares-3.png
END:VEVENT
END:VCALENDAR