BEGIN:VCALENDAR
VERSION:2.0
PRODID:-//Historic Stonington - ECPv6.11.2.1//NONSGML v1.0//EN
CALSCALE:GREGORIAN
METHOD:PUBLISH
X-ORIGINAL-URL:https://www.historicstonington.org
X-WR-CALDESC:Events for Historic Stonington
REFRESH-INTERVAL;VALUE=DURATION:PT1H
X-Robots-Tag:noindex
X-PUBLISHED-TTL:PT1H
BEGIN:VTIMEZONE
TZID:America/New_York
BEGIN:DAYLIGHT
TZOFFSETFROM:-0500
TZOFFSETTO:-0400
TZNAME:EDT
DTSTART:20220313T070000
END:DAYLIGHT
BEGIN:STANDARD
TZOFFSETFROM:-0400
TZOFFSETTO:-0500
TZNAME:EST
DTSTART:20221106T060000
END:STANDARD
END:VTIMEZONE
BEGIN:VEVENT
DTSTART;TZID=America/New_York:20220601T103000
DTEND;TZID=America/New_York:20220601T113000
DTSTAMP:20260419T234033
CREATED:20220510T191508Z
LAST-MODIFIED:20220510T191512Z
UID:16863-1654079400-1654083000@www.historicstonington.org
SUMMARY:Yoga at the Lighthouse
DESCRIPTION:
URL:https://www.historicstonington.org/event/yoga-at-the-lighthouse-10/
LOCATION:The Old Lighthouse Museum\, 7 Water Street\, Stonington\, CT\, 06378\, United States
CATEGORIES:Programs & Events
ATTACH;FMTTYPE=image/png:https://www.historicstonington.org/wp-content/uploads/Yoga-at-the-L-ghthouse-1.png
END:VEVENT
BEGIN:VEVENT
DTSTART;TZID=America/New_York:20220602T080000
DTEND;TZID=America/New_York:20220602T090000
DTSTAMP:20260419T234033
CREATED:20220510T200444Z
LAST-MODIFIED:20220510T200447Z
UID:16875-1654156800-1654160400@www.historicstonington.org
SUMMARY:Yoga at the Palmer House
DESCRIPTION:Join Chelsea Hauck of Bluebird Yoga for classes at the Captain Palmer House this summer. Relax Thursday mornings at 8am. For more information and to register\, click here: https://chbluebirdyoga.com/palmer-house
URL:https://www.historicstonington.org/event/yoga-at-the-palmer-house/
LOCATION:CT
CATEGORIES:Programs & Events
ATTACH;FMTTYPE=image/png:https://www.historicstonington.org/wp-content/uploads/Yoga-at-the-Palmer-House-1.png
END:VEVENT
BEGIN:VEVENT
DTSTART;TZID=America/New_York:20220611T100000
DTEND;TZID=America/New_York:20220611T160000
DTSTAMP:20260419T234033
CREATED:20220419T185906Z
LAST-MODIFIED:20220422T144204Z
UID:16764-1654941600-1654963200@www.historicstonington.org
SUMMARY:CT Museum Open House Day
DESCRIPTION:
URL:https://www.historicstonington.org/event/ct-museum-open-house-day/
LOCATION:CT
CATEGORIES:Programs & Events
ATTACH;FMTTYPE=image/jpeg:https://www.historicstonington.org/wp-content/uploads/https___cdn.evbuc_.com_images_268578029_249015880202_1_original.jpeg
END:VEVENT
BEGIN:VEVENT
DTSTART;VALUE=DATE:20220614
DTEND;VALUE=DATE:20220615
DTSTAMP:20260419T234033
CREATED:20220113T165502Z
LAST-MODIFIED:20220422T144921Z
UID:16642-1655164800-1655251199@www.historicstonington.org
SUMMARY:MEMBERS ONLY: Stonington Battle Flag Viewing
DESCRIPTION:Come celebrate Flag Day with SHS!\n\nStop by the R. W. Woolworth Library and Research Center anytime between 5 and 7pm on Flag Day to view the Battle of Stonington flag. The flag is only brought out once every few years\, so this is truly a special opportunity!\n\nEvent is free and for members only. Not a member but want to come see the flag? Support SHS and become a member online today!
URL:https://www.historicstonington.org/event/members-only-stonington-battle-flag-viewing/
LOCATION:The R. W. Woolworth Library & Research Center\, 40 Palmer Street\, Stonington\, CT\, 06378\, United States
ATTACH;FMTTYPE=image/png:https://www.historicstonington.org/wp-content/uploads/5.png
END:VEVENT
BEGIN:VEVENT
DTSTART;TZID=America/New_York:20220616T183000
DTEND;TZID=America/New_York:20220616T200000
DTSTAMP:20260419T234033
CREATED:20220419T185827Z
LAST-MODIFIED:20220420T011206Z
UID:16763-1655404200-1655409600@www.historicstonington.org
SUMMARY:History of the Stonington COMO
DESCRIPTION:
URL:https://www.historicstonington.org/event/history-of-the-stonington-como/
LOCATION:CT
CATEGORIES:Programs & Events
ATTACH;FMTTYPE=image/jpeg:https://www.historicstonington.org/wp-content/uploads/como-square-01-scaled.jpg
END:VEVENT
BEGIN:VEVENT
DTSTART;TZID=America/New_York:20220625T170000
DTEND;TZID=America/New_York:20220625T220000
DTSTAMP:20260419T234033
CREATED:20220419T185939Z
LAST-MODIFIED:20220526T213308Z
UID:16765-1656176400-1656194400@www.historicstonington.org
SUMMARY:The Cannon Ball
DESCRIPTION:Join us on June 25th\, 2022 for the Cannon Ball!\nCelebrating from River to River\nThe Mystic and the Pawcatuck are what defines the boundaries and the legacy of Stonington.\nJoin us at the Cannon Ball to celebrate these rivers and all that lies between!\nTickets are available now at thecannonball.givesmart.com!\nCan’t attend? No worries! Stay tuned for more information about bidding in our virtual silent auction.
URL:https://www.historicstonington.org/event/the-cannon-ball-2/
LOCATION:CT
CATEGORIES:Programs & Events
ATTACH;FMTTYPE=image/jpeg:https://www.historicstonington.org/wp-content/uploads/cannon-ball-2022-e-vent-cover_5-FB-event-cover-scaled.jpg
END:VEVENT
END:VCALENDAR